BEGIN:VCALENDAR
VERSION:2.0
PRODID:-//ChamberMaster//Event Calendar 2.0//EN
METHOD:PUBLISH
X-PUBLISHED-TTL:P3D
REFRESH-INTERVAL:P3D
CALSCALE:GREGORIAN
BEGIN:VEVENT
DTSTART:20210728T170000Z
DTEND:20210728T180000Z
X-MICROSOFT-CDO-ALLDAYEVENT:FALSE
SUMMARY:Creating an Annual Grant Seeking Strategy w/ Rachel Waterman
DESCRIPTION:Want to learn how to create an annual grant seeking strategy? Then join us. In this 1-hour webinar (with 15 minutes Q&A)\, a veteran grantmaker\, Rachel Waterman shares how to create an annual grant seeking strategy and fire up your grants success. By the end of this Instrumentl Partner Webinar\, you'll be able to: - Diversify funding portfolios through strategic prospecting - Balance funding opportunities across programs - Pipeline to cash flow planning - Understand how Instrumentl saves you time and money in identifying the right opportunities for your programs Rachel Waterman has over 25 years of community development and grant writing experience\, is Grant Professional Certified (GPC)\, a Certified Fund Raising Executive (CFRE)\, a Grant Professionals Association (GPA) Approved Trainer\, and an expert in grant management. Rachel is the CEO and Founder of GDS Grants. All attendees will receive a recording and copy of the presentation slides after the workshop. Instrumentl Partner Webinars are collaborations between Instrumentl and its community partners to provide free educational workshops for grant professionals. Our goal is to tackle a problem grant professionals often have to solve\, while also sharing different ways Instrumentl's platform can help grant writers win more grants.
X-ALT-DESC;FMTTYPE=text/html:Want to learn how to create an annual grant seeking strategy? Then join us. In this 1-hour webinar (with 15 minutes Q&amp\;A)\, a veteran grantmaker\, Rachel Waterman shares how to create an annual grant seeking strategy and fire up your grants success. By the end of this Instrumentl Partner Webinar\, you&rsquo\;ll be able to: - Diversify funding portfolios through strategic prospecting - Balance funding opportunities across programs - Pipeline to cash flow planning - Understand how Instrumentl saves you time and money in identifying the right opportunities for your programs Rachel Waterman has over 25 years of community development and grant writing experience\, is Grant Professional Certified (GPC)\, a Certified Fund Raising Executive (CFRE)\, a Grant Professionals Association (GPA) Approved Trainer\, and an expert in grant management. Rachel is the CEO and Founder of GDS Grants. All attendees will receive a recording and copy of the presentation slides after the workshop. Instrumentl Partner Webinars are collaborations between Instrumentl and its community partners to provide free educational workshops for grant professionals. Our goal is to tackle a problem grant professionals often have to solve\, while also sharing different ways Instrumentl&rsquo\;s platform can help grant writers win more grants.
LOCATION:Zoom
UID:e.9142.5406
SEQUENCE:3
DTSTAMP:20260425T022107Z
URL:http://business.npconnect.org/events/details/creating-an-annual-grant-seeking-strategy-w-rachel-waterman-5406
END:VEVENT

END:VCALENDAR
