BEGIN:VCALENDAR
VERSION:2.0
PRODID:-//ChamberMaster//Event Calendar 2.0//EN
METHOD:PUBLISH
X-PUBLISHED-TTL:P3D
REFRESH-INTERVAL:P3D
CALSCALE:GREGORIAN
BEGIN:VEVENT
DTSTART;VALUE=DATE:20261107
DTEND;VALUE=DATE:20261108
TRANSP:TRANSPARENT
X-MICROSOFT-CDO-ALLDAYEVENT:TRUE
SUMMARY:Heartland Caregiving Conference
DESCRIPTION:The Heartland Caregiving Conference invites family caregivers in the Kansas City Metro to gather to learn best practices in self-care and caregiving\, discover community resources that can help as they care for a loved one\, and connect with others who share a similar experience. Anyone who is currently caring for a loved one or sees caregiving in their future is invited to join us in kicking off National Family Caregivers Month in Kansas City. Our annual conference celebrates the vital care and selfless sacrifices of countless daughters\, sons\, husbands\, wives\, grandchildren\, and nieces & nephews here in the metro provide every day.
X-ALT-DESC;FMTTYPE=text/html:The Heartland Caregiving Conference invites family caregivers in the Kansas City Metro to gather to learn best practices in self-care and caregiving\, discover community resources that can help as they care for a loved one\, and connect with others who share a similar experience. Anyone who is currently caring for a loved one or sees caregiving in their future is invited to join us in kicking off National Family Caregivers Month in Kansas City. Our annual conference celebrates the vital care and selfless sacrifices of countless daughters\, sons\, husbands\, wives\, grandchildren\, and nieces &amp\; nephews here in the metro provide every day.
LOCATION:NKC Health - 2790 Clay Edwards Dr\, North Kansas City\, MO 64116
UID:e.9142.10134
SEQUENCE:3
DTSTAMP:20260420T105911Z
URL:http://business.npconnect.org/events/details/heartland-caregiving-conference-10134
END:VEVENT

END:VCALENDAR
