BEGIN:VCALENDAR
VERSION:2.0
PRODID:-//ChamberMaster//Event Calendar 2.0//EN
METHOD:PUBLISH
X-PUBLISHED-TTL:P3D
REFRESH-INTERVAL:P3D
CALSCALE:GREGORIAN
BEGIN:VEVENT
DTSTART:20200214T000000Z
DTEND:20200214T040000Z
X-MICROSOFT-CDO-ALLDAYEVENT:FALSE
SUMMARY:NTRC's Valentine Murder Mystery
DESCRIPTION:WHO DUNNIT\, DUDE? Poison Ratenstein is in town for a killer concert\, but his fans may be looking for a refund after this twisted tour turns tragic with a murder and a mastery to solve. Help the crowd and the detective figure out who ruined this totally tubular night\, so everyone can\, like\, take a chill pill. Make sure you're dressed with the times or someone may ask you to bag your head! Grab your most righteous 80's concert gear to rock out in style while you solve a crime with your friends. Jean jackets and spandex leggings\, big hair\, bangles\, leg warmers\, and ripped jeans will be all the rage at this rocking night of mystery. See you there! Prizes for the best dressed individual\, couple\, and most outrageous costume *Gluten Free available but must let us know in advance DON'T MISS OUT ON THIS FUN WAY TO SUPPORT A GREAT CAUSE! ALL PROCEEDS BENEFIT NORTHLAND THERAPEUTIC RIDING CENTER.
X-ALT-DESC;FMTTYPE=text/html:WHO DUNNIT\, DUDE? Poison Ratenstein is in town for a killer concert\, but his fans may be looking for a refund after this twisted tour turns tragic with a murder and a mastery to solve. Help the crowd and the detective figure out who ruined this totally tubular night\, so everyone can\, like\, take a chill pill. Make sure you&#39\;re dressed with the times or someone may ask you to bag your head! Grab your most righteous 80&#39\;s concert gear to rock out in style while you solve a crime with your friends. Jean jackets and spandex leggings\, big hair\, bangles\, leg warmers\, and ripped jeans will be all the rage at this rocking night of mystery. See you there! Prizes for the best dressed individual\, couple\, and most outrageous costume *Gluten Free available but must let us know in advance DON&#39\;T MISS OUT ON THIS FUN WAY TO SUPPORT A GREAT CAUSE! ALL PROCEEDS BENEFIT NORTHLAND THERAPEUTIC RIDING CENTER.
LOCATION:Belvoir Winery and Inn 1325 Odd Fellows Road Liberty\, MO 64068
UID:e.9142.4842
SEQUENCE:3
DTSTAMP:20260420T192659Z
URL:http://business.npconnect.org/events/details/ntrc-s-valentine-murder-mystery-4842
END:VEVENT

END:VCALENDAR
