BEGIN:VCALENDAR
VERSION:2.0
PRODID:-//ChamberMaster//Event Calendar 2.0//EN
METHOD:PUBLISH
X-PUBLISHED-TTL:P3D
REFRESH-INTERVAL:P3D
CALSCALE:GREGORIAN
BEGIN:VEVENT
DTSTART:20260417T230000Z
DTEND:20260418T010000Z
X-MICROSOFT-CDO-ALLDAYEVENT:FALSE
SUMMARY:Paws For Progress
DESCRIPTION:Join KC Urban Advantage and Great Plains SPCA as we partner to help spread awareness in the communities we serve!\n\nEnjoy an evening of drinks\, appetizers\, a silent auction with a raffle featuring some great prizes and more! Together\, we can make a difference!
X-ALT-DESC;FMTTYPE=text/html:<p>Join KC Urban Advantage and Great Plains SPCA as we partner to help spread awareness in the communities we serve!</p>\n\n<p>Enjoy an&nbsp\;evening of drinks\, appetizers\, a silent auction with a raffle featuring some great prizes and more! Together\, we can make a difference!</p>\n
LOCATION:Museum at Prairiefire 5801 W 135th Street Overland Park\, Kansas 66223 United States
UID:e.9142.10268
SEQUENCE:3
DTSTAMP:20260420T020529Z
URL:http://business.npconnect.org/events/details/paws-for-progress-04-17-2026-10268
END:VEVENT

END:VCALENDAR
