BEGIN:VCALENDAR
VERSION:2.0
PRODID:-//ChamberMaster//Event Calendar 2.0//EN
METHOD:PUBLISH
X-PUBLISHED-TTL:P3D
REFRESH-INTERVAL:P3D
CALSCALE:GREGORIAN
BEGIN:VEVENT
DTSTART:20260516T230000Z
DTEND:20260517T030000Z
X-MICROSOFT-CDO-ALLDAYEVENT:FALSE
SUMMARY:Stems: A Garden Soirée
DESCRIPTION:Stems is the signature annual fundraiser of the Arts & Recreation Foundation\, celebrated each summer at the beautiful Overland Park Arboretum & Botanical Gardens. This elegant garden-party experience brings together community members\, business leaders\, and arts and parks supporters for an evening that showcases the very best of our region. Guests stroll through the Arboretum's pathways enjoying tasting stations from local restaurants\, wineries\, breweries\, and chefs\, while live musicians\, artists\, and performers create a vibrant\, immersive atmosphere. The event features creative activations\, artistic demonstrations\, and opportunities to explore the gardens at sunset and into the evening. Funds raised through Stems directly support arts initiatives\, cultural programming\, and recreation projects across Overland Park including enhancements to the Arboretum\, Deanna Rose Children's Farmstead\, and citywide arts programs.
X-ALT-DESC;FMTTYPE=text/html:Stems is the signature annual fundraiser of the Arts &amp\; Recreation Foundation\, celebrated each summer at the beautiful Overland Park Arboretum &amp\; Botanical Gardens. This elegant garden-party experience brings together community members\, business leaders\, and arts and parks supporters for an evening that showcases the very best of our region. Guests stroll through the Arboretum&rsquo\;s pathways enjoying tasting stations from local restaurants\, wineries\, breweries\, and chefs\, while live musicians\, artists\, and performers create a vibrant\, immersive atmosphere. The event features creative activations\, artistic demonstrations\, and opportunities to explore the gardens at sunset and into the evening. Funds raised through Stems directly support arts initiatives\, cultural programming\, and recreation projects across Overland Park&mdash\;including enhancements to the Arboretum\, Deanna Rose Children&rsquo\;s Farmstead\, and citywide arts programs.
LOCATION:The Overland Park Arboretum & Botanical Gardens
UID:e.9142.10137
SEQUENCE:3
DTSTAMP:20260423T091736Z
URL:http://business.npconnect.org/events/details/stems-a-garden-soir&#233;e-10137
END:VEVENT

END:VCALENDAR
