BEGIN:VCALENDAR
VERSION:2.0
PRODID:-//ChamberMaster//Event Calendar 2.0//EN
METHOD:PUBLISH
X-PUBLISHED-TTL:P3D
REFRESH-INTERVAL:P3D
CALSCALE:GREGORIAN
BEGIN:VEVENT
DTSTART:20260822T213000Z
DTEND:20260823T020000Z
X-MICROSOFT-CDO-ALLDAYEVENT:FALSE
SUMMARY:4th ANNUAL SHOW ME YOU BALL BASKETBALL GAME
DESCRIPTION:
X-ALT-DESC;FMTTYPE=text/html:
LOCATION:Ewing Marion Kauffman School 6401 The Paseo\, Kansas City\, MO 64131
UID:e.9142.10391
SEQUENCE:3
DTSTAMP:20260423T115038Z
URL:https://business.npconnect.org/events/details/4th-annual-show-me-you-ball-basketball-game-10391
END:VEVENT

END:VCALENDAR
