BEGIN:VCALENDAR
VERSION:2.0
PRODID:-//ChamberMaster//Event Calendar 2.0//EN
METHOD:PUBLISH
X-PUBLISHED-TTL:P3D
REFRESH-INTERVAL:P3D
CALSCALE:GREGORIAN
BEGIN:VEVENT
DTSTART;VALUE=DATE:20260511
DTEND;VALUE=DATE:20260512
TRANSP:TRANSPARENT
X-MICROSOFT-CDO-ALLDAYEVENT:TRUE
SUMMARY:Forever Smiles Foundation Golf Tournament
DESCRIPTION:Date: Monday\, May 11\, 2026\n\nTime: Check-In at 8:30am\, Shotgun Start at 9:00am\n\nWhere: Lakewood Oaks Country Club | 651 NE St. Andrews Circle | Lee's Summit\, MO 64116\n\nhttps://onecau.se/_en6bp1\n\nwww.foreversmiles-foundation.org\n\nGet ready to hit the greens for a great cause at our Charity Golf Tournament! This is your chance to enjoy 18 holes of championship golf while supporting Forever Smiles Foundation.\n\nCourse Details:\n\nPlay on a stunning championship golf course designed by renowned architect Jay Riviere in 1979. With 6\,300 yards of Cato Crenshaw Bent Grass greens\, Bluegrass roughs\, and Zoysia fairways and tees\, this newly renovated course is a true challenge. Experience repositioned bunkers that will test even the most skilled golfers\, while multiple tee options ensure players of all levels can compete comfortably. This course has proudly hosted several Missouri State Amateur Golf Championships!\n\nFormat: Scramble\n\n\n	Foursomes: Bring your friends and create a team of four!\n	Individuals: Sign up solo and we'll pair you with fellow golfers for a fantastic day.\n\n\nLunch & Banquet:\n\nBreakfast snacks and Lunch provided.\n\nDrink Service:\n\nRefreshments will be available throughout the day\, ensuring you stay hydrated and energized.  Cash/Card Drink Cart\n\nPrizes & Contests:\n\nParticipate in exciting contests and win prizes throughout the day! Add the Game Ticket to your entry.\n\nHow to Register:\n\n\n	Sign up as a team or as an individual\n	Inquire about sponsorship opportunities.\n\n\nSwing for a cause and make a difference while enjoying a beautiful day on the golf course. We can't wait to see you there!\n\nFor questions or sponsorship opportunities\, contact Heather.\n\nLet's make this tournament a hole-in-one for charity! ????
X-ALT-DESC;FMTTYPE=text/html:<p>Date: Monday\, May 11\, 2026<br />\nTime: Check-In at 8:30am\, Shotgun Start at 9:00am<br />\nWhere: Lakewood Oaks Country Club | 651 NE St. Andrews Circle | Lee&rsquo\;s Summit\, MO 64116<br />\n<a href="https://onecau.se/_en6bp1" rel="external" style="box-sizing: border-box\; text-decoration-line: none\; transition-property: color\, background-color\, border-color\; transition-duration: 0.2s\; transition-timing-function: linear\; color: rgb(255\, 49\, 49)\; overflow-wrap: break-word\; font-family: &quot\;DM Sans&quot\;\; font-size: 14px\; background-color: rgb(234\, 237\, 240)\;" target="_self">https://onecau.se/_en6bp1<br />\nwww.foreversmiles-foundation.org<br />\n<span style="background-color:rgb(255\, 255\, 255)\; color:rgb(51\, 51\, 51)\; font-family:sans-serif\,arial\,verdana\,trebuchet ms\; font-size:13px">Get ready to hit the greens for a great cause at our Charity Golf Tournament! This is your chance to enjoy 18 holes of championship golf while supporting Forever Smiles Foundation.</span></a></p>\n\n<p><strong>Course Details:</strong><br />\nPlay on a stunning championship golf course designed by renowned architect Jay Riviere in 1979. With 6\,300 yards of Cato Crenshaw Bent Grass greens\, Bluegrass roughs\, and Zoysia fairways and tees\, this newly renovated course is a true challenge. Experience repositioned bunkers that will test even the most skilled golfers\, while multiple tee options ensure players of all levels can compete comfortably. This course has proudly hosted several Missouri State Amateur Golf Championships!</p>\n\n<p><strong>Format: Scramble</strong></p>\n\n<ul>\n	<li><strong>Foursomes:</strong>&nbsp\;Bring your friends and create a team of four!</li>\n	<li><strong>Individuals:</strong>&nbsp\;Sign up solo and we&rsquo\;ll pair you with fellow golfers for a fantastic day.</li>\n</ul>\n\n<p><strong>Lunch &amp\; Banquet:</strong><br />\nBreakfast snacks and Lunch provided.</p>\n\n<p><strong>Drink Service:</strong><br />\nRefreshments will be available throughout the day\, ensuring you stay hydrated and energized.&nbsp\; Cash/Card Drink Cart</p>\n\n<p><strong>Prizes &amp\; Contests:</strong><br />\nParticipate in exciting contests and win prizes throughout the day! Add the Game Ticket to your entry.</p>\n\n<p><strong>How to Register:</strong></p>\n\n<ul>\n	<li>Sign up as a team or as an individual</li>\n	<li>Inquire about sponsorship opportunities.</li>\n</ul>\n\n<p>Swing for a cause and make a difference while enjoying a beautiful day on the golf course. We can&rsquo\;t wait to see you there!</p>\n\n<p><strong>For questions or sponsorship opportunities\, contact Heather.</strong><br />\nLet&rsquo\;s make this tournament a hole-in-one for charity! ????</p>\n
LOCATION:
UID:e.9142.10366
SEQUENCE:3
DTSTAMP:20260422T233713Z
URL:https://business.npconnect.org/events/details/forever-smiles-foundation-golf-tournament-10366
END:VEVENT

END:VCALENDAR
