BEGIN:VCALENDAR
VERSION:2.0
PRODID:-//ChamberMaster//Event Calendar 2.0//EN
METHOD:PUBLISH
X-PUBLISHED-TTL:P3D
REFRESH-INTERVAL:P3D
CALSCALE:GREGORIAN
BEGIN:VEVENT
DTSTART:20260501T220000Z
DTEND:20260502T010000Z
X-MICROSOFT-CDO-ALLDAYEVENT:FALSE
SUMMARY:GCI's Cinco de Mayo 100th Anniversary
DESCRIPTION:Kansas City Metro area and beyond mark your calendars for the 100th anniversary of our iconic Cinco de Mayo Fiesta! Join us on the historic Westside\, where it all began in 1926\, for an unforgettable celebration on the evening of May 1 and all day on May 2. Free admission. Whether you're a longtime attendee or a first-time visitor\, we invite you to be part of this vibrant celebration of culture and heritage. Enjoy flavorful\, authentic food\, family-friendly activities\, live entertainment\, and the incredible talents of local vendors and artists.  Nos vemos ah ! Local Vendors   Artists   Live Music   Authentic Food   Family Fun Zone Event is rain or shine. Lawn chairs are welcome. No outside food\, drinks\, weapons\, or pets allowed.
X-ALT-DESC;FMTTYPE=text/html:Kansas City Metro area and beyond&mdash\;mark your calendars for the 100th anniversary of our iconic Cinco de Mayo Fiesta! Join us on the historic Westside\, where it all began in 1926\, for an unforgettable celebration on the evening of May 1 and all day on May 2. Free admission. Whether you&rsquo\;re a longtime attendee or a first-time visitor\, we invite you to be part of this vibrant celebration of culture and heritage. Enjoy flavorful\, authentic food\, family-friendly activities\, live entertainment\, and the incredible talents of local vendors and artists. &iexcl\;Nos vemos ah&iacute\;! Local Vendors &bull\; Artists &bull\; Live Music &bull\; Authentic Food &bull\; Family Fun Zone Event is rain or shine. Lawn chairs are welcome. No outside food\, drinks\, weapons\, or pets allowed.
LOCATION:1015 Avenida C sar E Ch vez\, Kansas City\, MO 64151
UID:e.9142.10431
SEQUENCE:3
DTSTAMP:20260422T233803Z
URL:https://business.npconnect.org/events/details/gci-s-cinco-de-mayo-100th-anniversary-10431
END:VEVENT

END:VCALENDAR
