BEGIN:VCALENDAR
VERSION:2.0
PRODID:-//ChamberMaster//Event Calendar 2.0//EN
METHOD:PUBLISH
X-PUBLISHED-TTL:P3D
REFRESH-INTERVAL:P3D
CALSCALE:GREGORIAN
BEGIN:VEVENT
DTSTART:20230305T010000Z
DTEND:20230305T040000Z
X-MICROSOFT-CDO-ALLDAYEVENT:FALSE
SUMMARY:In Your Corner for Hope
DESCRIPTION:Hope House\, KC Golden Gloves\, and Christy's Champs all strive to inspire self-confidence and empowerment among their clients and athletes. Join us in hearing the life changing stories of survivors and boxers while experiencing KC Golden Gloves in action.
X-ALT-DESC;FMTTYPE=text/html:Hope House\, KC Golden Gloves\, and Christy&#39\;s Champs all strive to inspire self-confidence and empowerment among their clients and athletes. Join us in hearing the life changing stories of survivors and boxers while experiencing KC Golden Gloves in action.
LOCATION:The Uptown Theater 3700 Broadway Blvd\, Kansas City\, MO
UID:e.9142.6188
SEQUENCE:3
DTSTAMP:20260419T191330Z
URL:https://business.npconnect.org/events/details/in-your-corner-for-hope-6188
END:VEVENT

END:VCALENDAR
