BEGIN:VCALENDAR
VERSION:2.0
PRODID:-//ChamberMaster//Event Calendar 2.0//EN
METHOD:PUBLISH
X-PUBLISHED-TTL:P3D
REFRESH-INTERVAL:P3D
CALSCALE:GREGORIAN
BEGIN:VEVENT
DTSTART:20260509T140000Z
DTEND:20260509T163000Z
X-MICROSOFT-CDO-ALLDAYEVENT:FALSE
SUMMARY:Kitten Sound Bath
DESCRIPTION:Healing Purrs is a playful yet deeply soothing sound bath experience where the gentle resonance of sound healing meets the natural healing frequencies of kittens. Blending calming tones with the soft presence and rhythmic purring of these small companions\, this experience invites both your nervous system and your heart to soften\, settle\, and restore. It's a space where sound becomes medicine not just for you\, but for them too creating a shared field of comfort\, connection\, and quiet healing. Where every vibration helps a heart (and a paw) heal.
X-ALT-DESC;FMTTYPE=text/html:Healing Purrs is a playful yet deeply soothing sound bath experience where the gentle resonance of sound healing meets the natural healing frequencies of kittens. Blending calming tones with the soft presence and rhythmic purring of these small companions\, this experience invites both your nervous system and your heart to soften\, settle\, and restore. It&rsquo\;s a space where sound becomes medicine&mdash\;not just for you\, but for them too&mdash\;creating a shared field of comfort\, connection\, and quiet healing. Where every vibration helps a heart (and a paw) heal.
LOCATION:Great Plains SPCA 5424 Antioch Drive Merriam\, KS 66202
UID:e.9142.10430
SEQUENCE:3
DTSTAMP:20260422T233425Z
URL:https://business.npconnect.org/events/details/kitten-sound-bath-10430
END:VEVENT

END:VCALENDAR
