BEGIN:VCALENDAR
VERSION:2.0
PRODID:-//ChamberMaster//Event Calendar 2.0//EN
METHOD:PUBLISH
X-PUBLISHED-TTL:P3D
REFRESH-INTERVAL:P3D
CALSCALE:GREGORIAN
BEGIN:VEVENT
DTSTART:20260505T180000Z
DTEND:20260505T190000Z
X-MICROSOFT-CDO-ALLDAYEVENT:FALSE
SUMMARY:Partner Program: Tools for High Performing Boards
DESCRIPTION:NOTE: This is a partner program through the National Council of Nonprofits\, not hosted by Nonprofit Connect. \n\n\n\n \n\nAll that you need to be a higher performing board. Take your board from good to great with MNA's tools for high performing boards series. A few best practices separate high performing boards from the just okay boards. This two-part series will walk through proven tools to help board performance and cohesion. This series is best suited for board and staff leaders ready to level up board performance.\n\nResources and guidelines will include:\n\n\n	Board policy checklist\n	Board member job description\n	Committee charters\n	Board calendar planning\n	Agenda and consent agenda guidelines\n	Board evaluation guidelines and templates\n	Board recruiting matrix\n\n\nBy the end of the course\, participants will be able to:\n\n\n	Prioritize areas for board improvement\n	Identify common board pitfalls and solutions\n	Explain practices for high performing boards\n	Implement tools to improve board performance
X-ALT-DESC;FMTTYPE=text/html:<div style="font-size: 16px\; box-sizing: border-box\; caret-color: rgb(2\, 55\, 71)\; color: rgb(2\, 55\, 71)\; font-family: SourceSans\, &quot\;Helvetica Neue&quot\;\, Helvetica\, sans-serif\;">\n<p style="box-sizing: border-box\; margin: 0px 0px 1rem\; caret-color: rgb(63\, 63\, 63)\; color: rgb(63\, 63\, 63)\; font-family: &quot\;Open Sans&quot\;\, sans-serif\;"><span style="font-family:tahoma\;"><strong><span style="box-sizing: border-box\;"><span style="box-sizing: border-box\;"><em style="box-sizing: border-box\;"><span style="box-sizing: border-box\;">NOTE: This is a partner program through the National Council of Nonprofits\, not hosted by Nonprofit Connect.&nbsp\;</span></em></span></span></strong></span><br />\n<br />\n&nbsp\;</p>\n\n<p style="box-sizing: border-box\; margin-top: 0px\; margin-bottom: 1rem\; font-family: &quot\;Source Sans 3&quot\;\, &quot\;Helvetica Neue&quot\;\, Helvetica\, sans-serif\; line-height: normal\; font-size: 1.125rem\; max-width: 800px\; caret-color: rgb(2\, 55\, 71)\; color: rgb(2\, 55\, 71)\;"><span style="font-family:tahoma\;">All that you need to be a higher performing board. Take your board from&nbsp\;<em style="box-sizing: border-box\;">good</em>&nbsp\;to&nbsp\;<em style="box-sizing: border-box\;">great</em>&nbsp\;with MNA&rsquo\;s tools for high performing boards series. A few best practices separate high performing boards from the just okay boards.&nbsp\;This two-part series will walk through proven tools to help board performance and cohesion.&nbsp\;This series is best suited for board and staff leaders ready to level up board performance.</span></p>\n\n<p style="box-sizing: border-box\; margin-top: 0px\; margin-bottom: 1rem\; font-family: &quot\;Source Sans 3&quot\;\, &quot\;Helvetica Neue&quot\;\, Helvetica\, sans-serif\; line-height: normal\; font-size: 1.125rem\; max-width: 800px\; caret-color: rgb(2\, 55\, 71)\; color: rgb(2\, 55\, 71)\;"><span style="font-family:tahoma\;">Resources and guidelines will include:</span></p>\n\n<ul style="font-size: 16px\; box-sizing: border-box\; padding-left: 2rem\; margin-top: 0px\; margin-bottom: 1rem\; max-width: 800px\; caret-color: rgb(2\, 55\, 71)\; color: rgb(2\, 55\, 71)\; font-family: SourceSans\, &quot\;Helvetica Neue&quot\;\, Helvetica\, sans-serif\;">\n	<li style="box-sizing: border-box\; max-width: 800px\; font-size: 1.125rem\;"><span style="font-family:tahoma\;">Board policy checklist</span></li>\n	<li style="box-sizing: border-box\; max-width: 800px\; font-size: 1.125rem\;"><span style="font-family:tahoma\;">Board member job description</span></li>\n	<li style="box-sizing: border-box\; max-width: 800px\; font-size: 1.125rem\;"><span style="font-family:tahoma\;">Committee charters</span></li>\n	<li style="box-sizing: border-box\; max-width: 800px\; font-size: 1.125rem\;"><span style="font-family:tahoma\;">Board calendar planning</span></li>\n	<li style="box-sizing: border-box\; max-width: 800px\; font-size: 1.125rem\;"><span style="font-family:tahoma\;">Agenda and consent agenda guidelines</span></li>\n	<li style="box-sizing: border-box\; max-width: 800px\; font-size: 1.125rem\;"><span style="font-family:tahoma\;">Board evaluation guidelines and templates</span></li>\n	<li style="box-sizing: border-box\; max-width: 800px\; font-size: 1.125rem\;"><span style="font-family:tahoma\;">Board recruiting matrix</span></li>\n</ul>\n\n<p style="box-sizing: border-box\; margin-top: 0px\; margin-bottom: 1rem\; font-family: &quot\;Source Sans 3&quot\;\, &quot\;Helvetica Neue&quot\;\, Helvetica\, sans-serif\; line-height: normal\; font-size: 1.125rem\; max-width: 800px\; caret-color: rgb(2\, 55\, 71)\; color: rgb(2\, 55\, 71)\;"><span style="font-family:tahoma\;">By the end of the course\, participants will be able to:</span></p>\n\n<ul style="font-size: 16px\; box-sizing: border-box\; padding-left: 2rem\; margin-top: 0px\; margin-bottom: 1rem\; max-width: 800px\; caret-color: rgb(2\, 55\, 71)\; color: rgb(2\, 55\, 71)\; font-family: SourceSans\, &quot\;Helvetica Neue&quot\;\, Helvetica\, sans-serif\;">\n	<li style="box-sizing: border-box\; max-width: 800px\; font-size: 1.125rem\;"><span style="font-family:tahoma\;">Prioritize areas for board improvement</span></li>\n	<li style="box-sizing: border-box\; max-width: 800px\; font-size: 1.125rem\;"><span style="font-family:tahoma\;">Identify common board pitfalls and solutions</span></li>\n	<li style="box-sizing: border-box\; max-width: 800px\; font-size: 1.125rem\;"><span style="font-family:tahoma\;">Explain practices for high performing boards</span></li>\n	<li style="box-sizing: border-box\; max-width: 800px\; font-size: 1.125rem\;"><span style="font-family:tahoma\;">Implement tools to improve board performance</span></li>\n</ul>\n\n<p style="box-sizing: border-box\; margin: 0px 0px 1rem\; caret-color: rgb(63\, 63\, 63)\; color: rgb(63\, 63\, 63)\; font-family: &quot\;Open Sans&quot\;\, sans-serif\;">&nbsp\;</p>\n</div>\n
LOCATION:Virtual: Register Here.
UID:e.9142.10358
SEQUENCE:3
DTSTAMP:20260422T233239Z
URL:https://business.npconnect.org/events/details/partner-program-tools-for-high-performing-boards-10358
END:VEVENT

END:VCALENDAR
